BEGIN:VCALENDAR
VERSION:2.0
PRODID:Imitheme.com 
BEGIN:VEVENT
UID:20260422T154702904813735
DTSTAMP;TZID=UTC:2026-04-22 15:47:02
DTSTART;TZID=America/Los_Angeles:20260422T154702
DTEND;TZID=America/Los_Angeles:20260422T154702
SUMMARY:Journée Portes Ouvertes-18 avril 2026
LOCATION:Ecole Maison d\'Anfa
DESCRIPTION:
URL:https://ecole-maison-anfa.ma/eventer/journee-portes-ouvertes-18-avril-2026/
END:VEVENT
END:VCALENDAR
