BEGIN:VCALENDAR
VERSION:2.0
PRODID:Imitheme.com 
BEGIN:VEVENT
UID:20260422T1739271318604610
DTSTAMP;TZID=UTC:2026-04-22 17:39:27
DTSTART;TZID=America/Los_Angeles:20260422T173927
DTEND;TZID=America/Los_Angeles:20260422T173927
SUMMARY:Concours d'éloquence-Finale locale
LOCATION:Ecole Maison d\'Anfa
DESCRIPTION:
URL:https://ecole-maison-anfa.ma/eventer/concours-deloquence-finale-locale/
END:VEVENT
END:VCALENDAR
